OziExplorer Map Data File Version 2.2
Created by SAS.Planet
tula_centr.jpg
1 ,Map Code,
WGS 84,, 0.0000, 0.0000,WGS 84
Reserved 1
Reserved 2
Magnetic Variation,,,E
Map Projection,Mercator,PolyCal,No,AutoCalOnly,No,BSBUseWPX,No
Point01,xy, 0, 0,in, deg, 54, 12.14488716,N, 37, 36.59351348,E, grid, , , ,N
Point02,xy, 2076, 2188,in, deg, 54, 11.31899533,N, 37, 37.92989730,E, grid, , , ,N
Point03,xy, 0, 2188,in, deg, 54, 11.31899533,N, 37, 36.59351348,E, grid, , , ,N
Point04,xy, 2076, 0,in, deg, 54, 12.14488716,N, 37, 37.92989730,E, grid, , , ,N
Point05,xy, 1038, 1094,in, deg, 54, 11.73197579,N, 37, 37.26170539,E, grid, , , ,N
Point06,xy, 1038, 0,in, deg, 54, 12.14488716,N, 37, 37.26170539,E, grid, , , ,N
Point07,xy, 0, 1094,in, deg, 54, 11.73197579,N, 37, 36.59351348,E, grid, , , ,N
Point08,xy, 2076, 1094,in, deg, 54, 11.73197579,N, 37, 37.92989730,E, grid, , , ,N
Point09,xy, 1038, 2188,in, deg, 54, 11.31899533,N, 37, 37.26170539,E, grid, , , ,N
Point10,xy, , ,in, deg, , ,N, , ,W, grid, , , ,N
Point11,xy, , ,in, deg, , ,N, , ,W, grid, , , ,N
Point12,xy, , ,in, deg, , ,N, , ,W, grid, , , ,N
Point13,xy, , ,in, deg, , ,N, , ,W, grid, , , ,N
Point14,xy, , ,in, deg, , ,N, , ,W, grid, , , ,N
Point15,xy, , ,in, deg, , ,N, , ,W, grid, , , ,N
Point16,xy, , ,in, deg, , ,N, , ,W, grid, , , ,N
Point17,xy, , ,in, deg, , ,N, , ,W, grid, , , ,N
Point18,xy, , ,in, deg, , ,N, , ,W, grid, , , ,N
Point19,xy, , ,in, deg, , ,N, , ,W, grid, , , ,N
Point20,xy, , ,in, deg, , ,N, , ,W, grid, , , ,N
Point21,xy, , ,in, deg, , ,N, , ,W, grid, , , ,N
Point22,xy, , ,in, deg, , ,N, , ,W, grid, , , ,N
Point23,xy, , ,in, deg, , ,N, , ,W, grid, , , ,N
Point24,xy, , ,in, deg, , ,N, , ,W, grid, , , ,N
Point25,xy, , ,in, deg, , ,N, , ,W, grid, , , ,N
Point26,xy, , ,in, deg, , ,N, , ,W, grid, , , ,N
Point27,xy, , ,in, deg, , ,N, , ,W, grid, , , ,N
Point28,xy, , ,in, deg, , ,N, , ,W, grid, , , ,N
Point29,xy, , ,in, deg, , ,N, , ,W, grid, , , ,N
Point30,xy, , ,in, deg, , ,N, , ,W, grid, , , ,N
Projection Setup,,,,,,,,,,
Map Feature = MF ; Map Comment = MC These follow if they exist
Track File = TF These follow if they exist
Moving Map Parameters = MM? These follow if they exist
MM0,Yes
MMPNUM,4
MMPXY,1,0,0
MMPXY,2,2076,0
MMPXY,3,2076,2188
MMPXY,4,0,2188
MMPLL,1, 37.60989189, 54.20241478
MMPLL,2, 37.63216495, 54.20241478
MMPLL,3, 37.63216495, 54.18864992
MMPLL,4, 37.60989189, 54.18864992
MM1B,0.69870718
MOP,Map Open Position,0,0
IWH,Map Image Width/Height,2076,2188
