OziExplorer Map Data File Version 2.2
N-37-007 Петушки 1979г.
N-37-007.jpg
1 ,Map Code,
Pulkovo 1942 (1),WGS 84, 0.0000, 0.0000,WGS 84
Reserved 1
Reserved 2
Magnetic Variation,,,E
Map Projection,Transverse Mercator,PolyCal,No,AutoCalOnly,No,BSBUseWPX,No
Point01,xy, 137, 259,in, deg, 56, 0.0000,N, 39, 0.0000,E, grid, , , ,N
Point02,xy, 3808, 245,in, deg, 56, 0.0000,N, 39, 30.0000,E, grid, , , ,N
Point03,xy, 3839, 4619,in, deg, 55, 40.0000,N, 39, 30.0000,E, grid, , , ,N
Point04,xy, 134, 4630,in, deg, 55, 40.0000,N, 39, 0.0000,E, grid, , , ,N
Point05,xy, 1977, 2441,in, deg, 55, 50.0000,N, 39, 15.0000,E, grid, , , ,N
Point06,xy, 1969, 255,in, deg, 56, 0.0000,N, 39, 15.0000,E, grid, , , ,N
Point07,xy, 136, 2449,in, deg, 55, 50.0000,N, 39, 0.0000,E, grid, , , ,N
Point08,xy, 3821, 2431,in, deg, 55, 50.0000,N, 39, 30.0000,E, grid, , , ,N
Point09,xy, 1985, 4630,in, deg, 55, 40.0000,N, 39, 15.0000,E, grid, , , ,N
Point10,xy, , ,in, deg, , ,N, , ,W, grid, , , ,N
Point11,xy, , ,in, deg, , ,N, , ,W, grid, , , ,N
Point12,xy, , ,in, deg, , ,N, , ,W, grid, , , ,N
Point13,xy, , ,in, deg, , ,N, , ,W, grid, , , ,N
Point14,xy, , ,in, deg, , ,N, , ,W, grid, , , ,N
Point15,xy, , ,in, deg, , ,N, , ,W, grid, , , ,N
Point16,xy, , ,in, deg, , ,N, , ,W, grid, , , ,N
Point17,xy, , ,in, deg, , ,N, , ,W, grid, , , ,N
Point18,xy, , ,in, deg, , ,N, , ,W, grid, , , ,N
Point19,xy, , ,in, deg, , ,N, , ,W, grid, , , ,N
Point20,xy, , ,in, deg, , ,N, , ,W, grid, , , ,N
Point21,xy, , ,in, deg, , ,N, , ,W, grid, , , ,N
Point22,xy, , ,in, deg, , ,N, , ,W, grid, , , ,N
Point23,xy, , ,in, deg, , ,N, , ,W, grid, , , ,N
Point24,xy, , ,in, deg, , ,N, , ,W, grid, , , ,N
Point25,xy, , ,in, deg, , ,N, , ,W, grid, , , ,N
Point26,xy, , ,in, deg, , ,N, , ,W, grid, , , ,N
Point27,xy, , ,in, deg, , ,N, , ,W, grid, , , ,N
Point28,xy, , ,in, deg, , ,N, , ,W, grid, , , ,N
Point29,xy, , ,in, deg, , ,N, , ,W, grid, , , ,N
Point30,xy, , ,in, deg, , ,N, , ,W, grid, , , ,N
Projection Setup, 0.000000000, 39.000000000, 1.000000000, 7500000.00, 0.00,,,,,
Map Feature = MF ; Map Comment = MC These follow if they exist
Track File = TF These follow if they exist
Moving Map Parameters = MM? These follow if they exist
MM0,Yes
MMPNUM,4
MMPXY,1,137,260
MMPXY,2,3808,244
MMPXY,3,3840,4619
MMPXY,4,135,4630
MMPLL,1, 39.000205, 55.999943
MMPLL,2, 39.500175, 56.000072
MMPLL,3, 39.500383, 55.666608
MMPLL,4, 39.000082, 55.666866
MM1B,8.494239
Other Grid Setup
GRGRID,Yes,2 Km,No,16711680,255,2 Km,0,16777215,8,0,Yes,Yes,No,x
MOP,Map Open Position,0,0
IWH,Map Image Width/Height,3963,5070
