OziExplorer Map Data File Version 2.2
N-37-007-Г Савинское 1978г.
N-37-007-D.jpg
1 ,Map Code,
Pulkovo 1942 (1),WGS 84, 0.0000, 0.0000,WGS 84
Reserved 1
Reserved 2
Magnetic Variation,,,E
Map Projection,Transverse Mercator,PolyCal,No,AutoCalOnly,No,BSBUseWPX,No
Point01,xy, 141, 132,in, deg, 55, 50.0000,N, 39, 15.0000,E, grid, , , ,N
Point02,xy, 3834, 132,in, deg, 55, 50.0000,N, 39, 30.0000,E, grid, , , ,N
Point03,xy, 3843, 4513,in, deg, 55, 40.0000,N, 39, 30.0000,E, grid, , , ,N
Point04,xy, 134, 4514,in, deg, 55, 40.0000,N, 39, 15.0000,E, grid, , , ,N
Point05,xy, 1987, 2323,in, deg, 55, 45.0000,N, 39, 22.5000,E, grid, , , ,N
Point06,xy, 2007, 131,ex, deg, 55, 50.0000,N, 39, 22.5000,E, grid, , , ,N
Point07,xy, 139, 2324,in, deg, 55, 45.0000,N, 39, 15.0000,E, grid, , , ,N
Point08,xy, 3838, 2323,in, deg, 55, 45.0000,N, 39, 30.0000,E, grid, , , ,N
Point09,xy, 1987, 4514,ex, deg, 55, 40.0000,N, 39, 22.5000,E, grid, , , ,N
Point10,xy, , ,in, deg, , ,N, , ,W, grid, , , ,N
Point11,xy, , ,in, deg, , ,N, , ,W, grid, , , ,N
Point12,xy, , ,in, deg, , ,N, , ,W, grid, , , ,N
Point13,xy, , ,in, deg, , ,N, , ,W, grid, , , ,N
Point14,xy, , ,in, deg, , ,N, , ,W, grid, , , ,N
Point15,xy, , ,in, deg, , ,N, , ,W, grid, , , ,N
Point16,xy, , ,in, deg, , ,N, , ,W, grid, , , ,N
Point17,xy, , ,in, deg, , ,N, , ,W, grid, , , ,N
Point18,xy, , ,in, deg, , ,N, , ,W, grid, , , ,N
Point19,xy, , ,in, deg, , ,N, , ,W, grid, , , ,N
Point20,xy, , ,in, deg, , ,N, , ,W, grid, , , ,N
Point21,xy, , ,in, deg, , ,N, , ,W, grid, , , ,N
Point22,xy, , ,in, deg, , ,N, , ,W, grid, , , ,N
Point23,xy, , ,in, deg, , ,N, , ,W, grid, , , ,N
Point24,xy, , ,in, deg, , ,N, , ,W, grid, , , ,N
Point25,xy, , ,in, deg, , ,N, , ,W, grid, , , ,N
Point26,xy, , ,in, deg, , ,N, , ,W, grid, , , ,N
Point27,xy, , ,in, deg, , ,N, , ,W, grid, , , ,N
Point28,xy, , ,in, deg, , ,N, , ,W, grid, , , ,N
Point29,xy, , ,in, deg, , ,N, , ,W, grid, , , ,N
Point30,xy, , ,in, deg, , ,N, , ,W, grid, , , ,N
Projection Setup, 0.000000000, 39.000000000, 1.000000000, 7500000.00, 0.00,,,,,
Map Feature = MF ; Map Comment = MC These follow if they exist
Track File = TF These follow if they exist
Moving Map Parameters = MM? These follow if they exist
MM0,Yes
MMPNUM,4
MMPXY,1,141,133
MMPXY,2,3834,132
MMPXY,3,3842,4514
MMPXY,4,134,4513
MMPLL,1, 39.249981, 55.833309
MMPLL,2, 39.500019, 55.833320
MMPLL,3, 39.499959, 55.666636
MMPLL,4, 39.249974, 55.666698
MM1B,4.240858
Other Grid Setup
GRGRID,Yes,1 Km,No,16711680,255,1 Km,0,16777215,8,0,Yes,Yes,No,x
MOP,Map Open Position,0,0
IWH,Map Image Width/Height,3978,4657
