OziExplorer Map Data File Version 2.2
Created by SAS.Planet
15_space.jpg
1 ,Map Code,
WGS 84,, 0.0000, 0.0000,WGS 84
Reserved 1
Reserved 2
Magnetic Variation,,,E
Map Projection,Mercator,PolyCal,No,AutoCalOnly,No,BSBUseWPX,No
Point01,xy, 0, 0,in, deg, 55, 45.38873313,N, 39, 6.78268432,E, grid, , , ,N
Point02,xy, 4568, 3292,in, deg, 55, 35.80894496,N, 39, 30.30715942,E, grid, , , ,N
Point03,xy, 0, 3292,in, deg, 55, 35.80894496,N, 39, 6.78268432,E, grid, , , ,N
Point04,xy, 4568, 0,in, deg, 55, 45.38873313,N, 39, 30.30715942,E, grid, , , ,N
Point05,xy, 2284, 1646,in, deg, 55, 40.60374744,N, 39, 18.54492187,E, grid, , , ,N
Point06,xy, 2284, 0,in, deg, 55, 45.38873313,N, 39, 18.54492187,E, grid, , , ,N
Point07,xy, 0, 1646,in, deg, 55, 40.60374744,N, 39, 6.78268432,E, grid, , , ,N
Point08,xy, 4568, 1646,in, deg, 55, 40.60374744,N, 39, 30.30715942,E, grid, , , ,N
Point09,xy, 2284, 3292,in, deg, 55, 35.80894496,N, 39, 18.54492187,E, grid, , , ,N
Point10,xy, , ,in, deg, , ,N, , ,W, grid, , , ,N
Point11,xy, , ,in, deg, , ,N, , ,W, grid, , , ,N
Point12,xy, , ,in, deg, , ,N, , ,W, grid, , , ,N
Point13,xy, , ,in, deg, , ,N, , ,W, grid, , , ,N
Point14,xy, , ,in, deg, , ,N, , ,W, grid, , , ,N
Point15,xy, , ,in, deg, , ,N, , ,W, grid, , , ,N
Point16,xy, , ,in, deg, , ,N, , ,W, grid, , , ,N
Point17,xy, , ,in, deg, , ,N, , ,W, grid, , , ,N
Point18,xy, , ,in, deg, , ,N, , ,W, grid, , , ,N
Point19,xy, , ,in, deg, , ,N, , ,W, grid, , , ,N
Point20,xy, , ,in, deg, , ,N, , ,W, grid, , , ,N
Point21,xy, , ,in, deg, , ,N, , ,W, grid, , , ,N
Point22,xy, , ,in, deg, , ,N, , ,W, grid, , , ,N
Point23,xy, , ,in, deg, , ,N, , ,W, grid, , , ,N
Point24,xy, , ,in, deg, , ,N, , ,W, grid, , , ,N
Point25,xy, , ,in, deg, , ,N, , ,W, grid, , , ,N
Point26,xy, , ,in, deg, , ,N, , ,W, grid, , , ,N
Point27,xy, , ,in, deg, , ,N, , ,W, grid, , , ,N
Point28,xy, , ,in, deg, , ,N, , ,W, grid, , , ,N
Point29,xy, , ,in, deg, , ,N, , ,W, grid, , , ,N
Point30,xy, , ,in, deg, , ,N, , ,W, grid, , , ,N
Projection Setup,,,,,,,,,,
Map Feature = MF ; Map Comment = MC These follow if they exist
Track File = TF These follow if they exist
Moving Map Parameters = MM? These follow if they exist
MM0,Yes
MMPNUM,4
MMPXY,1,0,0
MMPXY,2,4568,0
MMPXY,3,4568,3292
MMPXY,4,0,3292
MMPLL,1, 39.11304473, 55.75647888
MMPLL,2, 39.50511932, 55.75647888
MMPLL,3, 39.50511932, 55.59681574
MMPLL,4, 39.11304473, 55.59681574
MM1B,5.38748741
MOP,Map Open Position,0,0
IWH,Map Image Width/Height,4568,3292
