OziExplorer Map Data File Version 2.2
18x_2-3.jpg
E:\Auto\R2009\R2009osen\18x_2-3.jpg
1 ,Map Code,
WGS 84,, 0.0000, 0.0000,WGS 84
Reserved 1
Reserved 2
Magnetic Variation,,,E
Map Projection,Mercator,PolyCal,No,AutoCalOnly,No,BSBUseWPX,No
Point01,xy, 0, 0,in, deg, 55, 21.01195420,N, 37, 0.85876464,E, grid, , , ,N
Point02,xy, 6944, 5386,in, deg, 55, 19.03556610,N, 37, 5.32882690,E, grid, , , ,N
Point03,xy, 0, 5386,in, deg, 55, 19.03556610,N, 37, 0.85876464,E, grid, , , ,N
Point04,xy, 6944, 0,in, deg, 55, 21.01195420,N, 37, 5.32882690,E, grid, , , ,N
Point05,xy, 3472, 2693,in, deg, 55, 20.02396642,N, 37, 3.09379577,E, grid, , , ,N
Point06,xy, 3472, 0,in, deg, 55, 21.01195420,N, 37, 3.09379577,E, grid, , , ,N
Point07,xy, 0, 2693,in, deg, 55, 20.02396642,N, 37, 0.85876464,E, grid, , , ,N
Point08,xy, 6944, 2693,in, deg, 55, 20.02396642,N, 37, 5.32882690,E, grid, , , ,N
Point09,xy, 3472, 5386,in, deg, 55, 19.03556610,N, 37, 3.09379577,E, grid, , , ,N
Point10,xy, , ,in, deg, , ,N, , ,W, grid, , , ,N
Point11,xy, , ,in, deg, , ,N, , ,W, grid, , , ,N
Point12,xy, , ,in, deg, , ,N, , ,W, grid, , , ,N
Point13,xy, , ,in, deg, , ,N, , ,W, grid, , , ,N
Point14,xy, , ,in, deg, , ,N, , ,W, grid, , , ,N
Point15,xy, , ,in, deg, , ,N, , ,W, grid, , , ,N
Point16,xy, , ,in, deg, , ,N, , ,W, grid, , , ,N
Point17,xy, , ,in, deg, , ,N, , ,W, grid, , , ,N
Point18,xy, , ,in, deg, , ,N, , ,W, grid, , , ,N
Point19,xy, , ,in, deg, , ,N, , ,W, grid, , , ,N
Point20,xy, , ,in, deg, , ,N, , ,W, grid, , , ,N
Point21,xy, , ,in, deg, , ,N, , ,W, grid, , , ,N
Point22,xy, , ,in, deg, , ,N, , ,W, grid, , , ,N
Point23,xy, , ,in, deg, , ,N, , ,W, grid, , , ,N
Point24,xy, , ,in, deg, , ,N, , ,W, grid, , , ,N
Point25,xy, , ,in, deg, , ,N, , ,W, grid, , , ,N
Point26,xy, , ,in, deg, , ,N, , ,W, grid, , , ,N
Point27,xy, , ,in, deg, , ,N, , ,W, grid, , , ,N
Point28,xy, , ,in, deg, , ,N, , ,W, grid, , , ,N
Point29,xy, , ,in, deg, , ,N, , ,W, grid, , , ,N
Point30,xy, , ,in, deg, , ,N, , ,W, grid, , , ,N
Projection Setup,,,,,,,,,,
Map Feature = MF ; Map Comment = MC These follow if they exist
Track File = TF These follow if they exist
Moving Map Parameters = MM? These follow if they exist
MM0,Yes
MMPNUM,4
MMPXY,1,0,0
MMPXY,2,6944,0
MMPXY,3,6944,5386
MMPXY,4,0,5386
MMPLL,1, 37.01431274, 55.35019923
MMPLL,2, 37.08881378, 55.35019923
MMPLL,3, 37.08881378, 55.31725943
MMPLL,4, 37.01431274, 55.31725943
MM1B,0.67932858
MOP,Map Open Position,0,0
IWH,Map Image Width/Height,6944,5386
