OziExplorer Map Data File Version 2.2
16x.jpg
E:\Auto\R2009\R2009osen\16x.jpg
1 ,Map Code,
WGS 84,, 0.0000, 0.0000,WGS 84
Reserved 1
Reserved 2
Magnetic Variation,,,E
Map Projection,Mercator,PolyCal,No,AutoCalOnly,No,BSBUseWPX,No
Point01,xy, 0, 0,in, deg, 55, 25.04180548,N, 36, 55.99731445,E, grid, , , ,N
Point02,xy, 5496, 4216,in, deg, 55, 18.85861616,N, 37, 10.14907836,E, grid, , , ,N
Point03,xy, 0, 4216,in, deg, 55, 18.85861616,N, 36, 55.99731445,E, grid, , , ,N
Point04,xy, 5496, 0,in, deg, 55, 25.04180548,N, 37, 10.14907836,E, grid, , , ,N
Point05,xy, 2748, 2108,in, deg, 55, 21.95223213,N, 37, 3.07319641,E, grid, , , ,N
Point06,xy, 2748, 0,in, deg, 55, 25.04180548,N, 37, 3.07319641,E, grid, , , ,N
Point07,xy, 0, 2108,in, deg, 55, 21.95223213,N, 36, 55.99731445,E, grid, , , ,N
Point08,xy, 5496, 2108,in, deg, 55, 21.95223213,N, 37, 10.14907836,E, grid, , , ,N
Point09,xy, 2748, 4216,in, deg, 55, 18.85861616,N, 37, 3.07319641,E, grid, , , ,N
Point10,xy, , ,in, deg, , ,N, , ,W, grid, , , ,N
Point11,xy, , ,in, deg, , ,N, , ,W, grid, , , ,N
Point12,xy, , ,in, deg, , ,N, , ,W, grid, , , ,N
Point13,xy, , ,in, deg, , ,N, , ,W, grid, , , ,N
Point14,xy, , ,in, deg, , ,N, , ,W, grid, , , ,N
Point15,xy, , ,in, deg, , ,N, , ,W, grid, , , ,N
Point16,xy, , ,in, deg, , ,N, , ,W, grid, , , ,N
Point17,xy, , ,in, deg, , ,N, , ,W, grid, , , ,N
Point18,xy, , ,in, deg, , ,N, , ,W, grid, , , ,N
Point19,xy, , ,in, deg, , ,N, , ,W, grid, , , ,N
Point20,xy, , ,in, deg, , ,N, , ,W, grid, , , ,N
Point21,xy, , ,in, deg, , ,N, , ,W, grid, , , ,N
Point22,xy, , ,in, deg, , ,N, , ,W, grid, , , ,N
Point23,xy, , ,in, deg, , ,N, , ,W, grid, , , ,N
Point24,xy, , ,in, deg, , ,N, , ,W, grid, , , ,N
Point25,xy, , ,in, deg, , ,N, , ,W, grid, , , ,N
Point26,xy, , ,in, deg, , ,N, , ,W, grid, , , ,N
Point27,xy, , ,in, deg, , ,N, , ,W, grid, , , ,N
Point28,xy, , ,in, deg, , ,N, , ,W, grid, , , ,N
Point29,xy, , ,in, deg, , ,N, , ,W, grid, , , ,N
Point30,xy, , ,in, deg, , ,N, , ,W, grid, , , ,N
Projection Setup,,,,,,,,,,
Map Feature = MF ; Map Comment = MC These follow if they exist
Track File = TF These follow if they exist
Moving Map Parameters = MM? These follow if they exist
MM0,Yes
MMPNUM,4
MMPXY,1,0,0
MMPXY,2,5496,0
MMPXY,3,5496,4216
MMPXY,4,0,4216
MMPLL,1, 36.93328857, 55.41736342
MMPLL,2, 37.16915130, 55.41736342
MMPLL,3, 37.16915130, 55.31431026
MMPLL,4, 36.93328857, 55.31431026
MM1B,2.71510995
MOP,Map Open Position,0,0
IWH,Map Image Width/Height,5496,4216
