OziExplorer Map Data File Version 2.2
N-37-050-А Желябужский 1988г.
E:\.0\0\N-37-050-A_1984_1988_Желябужский.jpg
1 ,Map Code,
Pulkovo 1942 (1),WGS 84, 0.0000, 0.0000,WGS 84
Reserved 1
Reserved 2
Magnetic Variation,,,E
Map Projection,Transverse Mercator,PolyCal,No,AutoCalOnly,No,BSBUseWPX,No
Point01,xy, 115, 184,in, deg, 54, 40.0000,N, 36, 30.0000,E, grid, , , ,N
Point02,xy, 2399, 183,in, deg, 54, 40.0000,N, 36, 45.0000,E, grid, , , ,N
Point03,xy, 2406, 2812,in, deg, 54, 30.0000,N, 36, 45.0000,E, grid, , , ,N
Point04,xy, 113, 2814,in, deg, 54, 30.0000,N, 36, 30.0000,E, grid, , , ,N
Point05,xy, 1260, 1500,in, deg, 54, 35.0000,N, 36, 37.5000,E, grid, , , ,N
Point06,xy, 1258, 184,ex, deg, 54, 40.0000,N, 36, 37.5000,E, grid, , , ,N
Point07,xy, 114, 1502,in, deg, 54, 35.0000,N, 36, 30.0000,E, grid, , , ,N
Point08,xy, 2402, 1498,in, deg, 54, 35.0000,N, 36, 45.0000,E, grid, , , ,N
Point09,xy, 1265, 2813,ex, deg, 54, 30.0000,N, 36, 37.5000,E, grid, , , ,N
Point10,xy, , ,in, deg, , ,N, , ,W, grid, , , ,N
Point11,xy, , ,in, deg, , ,N, , ,W, grid, , , ,N
Point12,xy, , ,in, deg, , ,N, , ,W, grid, , , ,N
Point13,xy, , ,in, deg, , ,N, , ,W, grid, , , ,N
Point14,xy, , ,in, deg, , ,N, , ,W, grid, , , ,N
Point15,xy, , ,in, deg, , ,N, , ,W, grid, , , ,N
Point16,xy, , ,in, deg, , ,N, , ,W, grid, , , ,N
Point17,xy, , ,in, deg, , ,N, , ,W, grid, , , ,N
Point18,xy, , ,in, deg, , ,N, , ,W, grid, , , ,N
Point19,xy, , ,in, deg, , ,N, , ,W, grid, , , ,N
Point20,xy, , ,in, deg, , ,N, , ,W, grid, , , ,N
Point21,xy, , ,in, deg, , ,N, , ,W, grid, , , ,N
Point22,xy, , ,in, deg, , ,N, , ,W, grid, , , ,N
Point23,xy, , ,in, deg, , ,N, , ,W, grid, , , ,N
Point24,xy, , ,in, deg, , ,N, , ,W, grid, , , ,N
Point25,xy, , ,in, deg, , ,N, , ,W, grid, , , ,N
Point26,xy, , ,in, deg, , ,N, , ,W, grid, , , ,N
Point27,xy, , ,in, deg, , ,N, , ,W, grid, , , ,N
Point28,xy, , ,in, deg, , ,N, , ,W, grid, , , ,N
Point29,xy, , ,in, deg, , ,N, , ,W, grid, , , ,N
Point30,xy, , ,in, deg, , ,N, , ,W, grid, , , ,N
Projection Setup, 0.000000000, 39.000000000, 1.000000000, 7500000.00, 0.00,,,,,
Map Feature = MF ; Map Comment = MC These follow if they exist
Track File = TF These follow if they exist
Moving Map Parameters = MM? These follow if they exist
MM0,Yes
MMPNUM,4
MMPXY,1,115,185
MMPXY,2,2399,183
MMPXY,3,2407,2812
MMPXY,4,112,2813
MMPLL,1, 36.499961, 54.666681
MMPLL,2, 36.749998, 54.666665
MMPLL,3, 36.750089, 54.500025
MMPLL,4, 36.499871, 54.500115
MM1B,7.058656
Other Grid Setup
GRGRID,Yes,1 Km,No,16711680,255,1 Km,0,16777215,8,0,Yes,Yes,No,x
MOP,Map Open Position,0,0
IWH,Map Image Width/Height,2516,2906
