OziExplorer Map Data File Version 2.2
N-37-038-Б Высокиничи 1984г.
E:\.0\0\N-37-038-B_1983_1984_Высокиничи.jpg
1 ,Map Code,
Pulkovo 1942 (1),WGS 84, 0.0000, 0.0000,WGS 84
Reserved 1
Reserved 2
Magnetic Variation,,,E
Map Projection,Transverse Mercator,PolyCal,No,AutoCalOnly,No,BSBUseWPX,No
Point01,xy, 101, 190,in, deg, 55, 0.0000,N, 36, 45.0000,E, grid, , , ,N
Point02,xy, 2368, 178,in, deg, 55, 0.0000,N, 37, 0.0000,E, grid, , , ,N
Point03,xy, 2383, 2798,in, deg, 54, 50.0000,N, 37, 0.0000,E, grid, , , ,N
Point04,xy, 107, 2811,in, deg, 54, 50.0000,N, 36, 45.0000,E, grid, , , ,N
Point05,xy, 1239, 1496,in, deg, 54, 55.0000,N, 36, 52.5000,E, grid, , , ,N
Point06,xy, 1239, 184,ex, deg, 55, 0.0000,N, 36, 52.5000,E, grid, , , ,N
Point07,xy, 102, 1501,in, deg, 54, 55.0000,N, 36, 45.0000,E, grid, , , ,N
Point08,xy, 2375, 1487,in, deg, 54, 55.0000,N, 37, 0.0000,E, grid, , , ,N
Point09,xy, 1245, 2805,ex, deg, 54, 50.0000,N, 36, 52.5000,E, grid, , , ,N
Point10,xy, , ,in, deg, , ,N, , ,W, grid, , , ,N
Point11,xy, , ,in, deg, , ,N, , ,W, grid, , , ,N
Point12,xy, , ,in, deg, , ,N, , ,W, grid, , , ,N
Point13,xy, , ,in, deg, , ,N, , ,W, grid, , , ,N
Point14,xy, , ,in, deg, , ,N, , ,W, grid, , , ,N
Point15,xy, , ,in, deg, , ,N, , ,W, grid, , , ,N
Point16,xy, , ,in, deg, , ,N, , ,W, grid, , , ,N
Point17,xy, , ,in, deg, , ,N, , ,W, grid, , , ,N
Point18,xy, , ,in, deg, , ,N, , ,W, grid, , , ,N
Point19,xy, , ,in, deg, , ,N, , ,W, grid, , , ,N
Point20,xy, , ,in, deg, , ,N, , ,W, grid, , , ,N
Point21,xy, , ,in, deg, , ,N, , ,W, grid, , , ,N
Point22,xy, , ,in, deg, , ,N, , ,W, grid, , , ,N
Point23,xy, , ,in, deg, , ,N, , ,W, grid, , , ,N
Point24,xy, , ,in, deg, , ,N, , ,W, grid, , , ,N
Point25,xy, , ,in, deg, , ,N, , ,W, grid, , , ,N
Point26,xy, , ,in, deg, , ,N, , ,W, grid, , , ,N
Point27,xy, , ,in, deg, , ,N, , ,W, grid, , , ,N
Point28,xy, , ,in, deg, , ,N, , ,W, grid, , , ,N
Point29,xy, , ,in, deg, , ,N, , ,W, grid, , , ,N
Point30,xy, , ,in, deg, , ,N, , ,W, grid, , , ,N
Projection Setup, 0.000000000, 39.000000000, 1.000000000, 7500000.00, 0.00,,,,,
Map Feature = MF ; Map Comment = MC These follow if they exist
Track File = TF These follow if they exist
Moving Map Parameters = MM? These follow if they exist
MM0,Yes
MMPNUM,4
MMPXY,1,101,189
MMPXY,2,2368,179
MMPXY,3,2383,2798
MMPXY,4,107,2811
MMPLL,1, 36.750068, 55.000094
MMPLL,2, 37.000033, 54.999909
MMPLL,3, 37.000012, 54.833332
MMPLL,4, 36.750089, 54.833338
MM1B,7.050448
Other Grid Setup
GRGRID,Yes,1 Km,No,16711680,255,1 Km,0,16777215,8,0,Yes,Yes,No,x
MOP,Map Open Position,0,0
IWH,Map Image Width/Height,2514,2906
