OziExplorer Map Data File Version 2.2
N-37-037-Г Детчино 1984г.
E:\.0\0\N-37-037-D_1983_1984_Детчино.jpg
1 ,Map Code,
Pulkovo 1942 (1),WGS 84, 0.0000, 0.0000,WGS 84
Reserved 1
Reserved 2
Magnetic Variation,,,E
Map Projection,Transverse Mercator,PolyCal,No,AutoCalOnly,No,BSBUseWPX,No
Point01,xy, 92, 157,in, deg, 54, 50.0000,N, 36, 15.0000,E, grid, , , ,N
Point02,xy, 2367, 156,in, deg, 54, 50.0000,N, 36, 30.0000,E, grid, , , ,N
Point03,xy, 2372, 2786,in, deg, 54, 40.0000,N, 36, 30.0000,E, grid, , , ,N
Point04,xy, 90, 2789,in, deg, 54, 40.0000,N, 36, 15.0000,E, grid, , , ,N
Point05,xy, 1231, 1472,in, deg, 54, 45.0000,N, 36, 22.5000,E, grid, , , ,N
Point06,xy, 1243, 156,ex, deg, 54, 50.0000,N, 36, 22.5000,E, grid, , , ,N
Point07,xy, 91, 1474,in, deg, 54, 45.0000,N, 36, 15.0000,E, grid, , , ,N
Point08,xy, 2368, 1469,in, deg, 54, 45.0000,N, 36, 30.0000,E, grid, , , ,N
Point09,xy, 1237, 2788,ex, deg, 54, 40.0000,N, 36, 22.5000,E, grid, , , ,N
Point10,xy, , ,in, deg, , ,N, , ,W, grid, , , ,N
Point11,xy, , ,in, deg, , ,N, , ,W, grid, , , ,N
Point12,xy, , ,in, deg, , ,N, , ,W, grid, , , ,N
Point13,xy, , ,in, deg, , ,N, , ,W, grid, , , ,N
Point14,xy, , ,in, deg, , ,N, , ,W, grid, , , ,N
Point15,xy, , ,in, deg, , ,N, , ,W, grid, , , ,N
Point16,xy, , ,in, deg, , ,N, , ,W, grid, , , ,N
Point17,xy, , ,in, deg, , ,N, , ,W, grid, , , ,N
Point18,xy, , ,in, deg, , ,N, , ,W, grid, , , ,N
Point19,xy, , ,in, deg, , ,N, , ,W, grid, , , ,N
Point20,xy, , ,in, deg, , ,N, , ,W, grid, , , ,N
Point21,xy, , ,in, deg, , ,N, , ,W, grid, , , ,N
Point22,xy, , ,in, deg, , ,N, , ,W, grid, , , ,N
Point23,xy, , ,in, deg, , ,N, , ,W, grid, , , ,N
Point24,xy, , ,in, deg, , ,N, , ,W, grid, , , ,N
Point25,xy, , ,in, deg, , ,N, , ,W, grid, , , ,N
Point26,xy, , ,in, deg, , ,N, , ,W, grid, , , ,N
Point27,xy, , ,in, deg, , ,N, , ,W, grid, , , ,N
Point28,xy, , ,in, deg, , ,N, , ,W, grid, , , ,N
Point29,xy, , ,in, deg, , ,N, , ,W, grid, , , ,N
Point30,xy, , ,in, deg, , ,N, , ,W, grid, , , ,N
Projection Setup, 0.000000000, 39.000000000, 1.000000000, 7500000.00, 0.00,,,,,
Map Feature = MF ; Map Comment = MC These follow if they exist
Track File = TF These follow if they exist
Moving Map Parameters = MM? These follow if they exist
MM0,Yes
MMPNUM,4
MMPXY,1,92,157
MMPXY,2,2368,156
MMPXY,3,2372,2785
MMPXY,4,89,2789
MMPLL,1, 36.249918, 54.833375
MMPLL,2, 36.500213, 54.833254
MMPLL,3, 36.499974, 54.666709
MMPLL,4, 36.249938, 54.666651
MM1B,7.061123
Other Grid Setup
GRGRID,Yes,1 Km,No,16711680,255,1 Km,0,16777215,8,0,Yes,Yes,No,x
MOP,Map Open Position,0,0
IWH,Map Image Width/Height,2516,2906
