OziExplorer Map Data File Version 2.2
N-37-063-Á
E:\.0\0\N-37-063-B_19xx_19xx_.gif
1 ,Map Code,
Pulkovo 1942 (1),WGS 84, 0.0000, 0.0000,WGS 84
Reserved 1
Reserved 2
Magnetic Variation,,,E
Map Projection,Transverse Mercator,PolyCal,No,AutoCalOnly,No,BSBUseWPX,No
Point01,xy, 1, 1,in, deg, 54, 20.0000,N, 37, 15.0000,E, grid, , , ,N
Point02,xy, 1921, 1,in, deg, 54, 20.0000,N, 37, 30.0000,E, grid, , , ,N
Point03,xy, 1921, 2191,in, deg, 54, 10.0000,N, 37, 30.0000,E, grid, , , ,N
Point04,xy, 0, 2191,in, deg, 54, 10.0000,N, 37, 15.0000,E, grid, , , ,N
Point05,xy, 963, 1095,in, deg, 54, 15.0000,N, 37, 22.5000,E, grid, , , ,N
Point06,xy, 987, 0,ex, deg, 54, 20.0000,N, 37, 22.5000,E, grid, , , ,N
Point07,xy, 0, 1096,in, deg, 54, 15.0000,N, 37, 15.0000,E, grid, , , ,N
Point08,xy, 1921, 1097,in, deg, 54, 15.0000,N, 37, 30.0000,E, grid, , , ,N
Point09,xy, 961, 2082,ex, deg, 54, 10.0000,N, 37, 22.5000,E, grid, , , ,N
Point10,xy, , ,in, deg, , ,N, , ,W, grid, , , ,N
Point11,xy, , ,in, deg, , ,N, , ,W, grid, , , ,N
Point12,xy, , ,in, deg, , ,N, , ,W, grid, , , ,N
Point13,xy, , ,in, deg, , ,N, , ,W, grid, , , ,N
Point14,xy, , ,in, deg, , ,N, , ,W, grid, , , ,N
Point15,xy, , ,in, deg, , ,N, , ,W, grid, , , ,N
Point16,xy, , ,in, deg, , ,N, , ,W, grid, , , ,N
Point17,xy, , ,in, deg, , ,N, , ,W, grid, , , ,N
Point18,xy, , ,in, deg, , ,N, , ,W, grid, , , ,N
Point19,xy, , ,in, deg, , ,N, , ,W, grid, , , ,N
Point20,xy, , ,in, deg, , ,N, , ,W, grid, , , ,N
Point21,xy, , ,in, deg, , ,N, , ,W, grid, , , ,N
Point22,xy, , ,in, deg, , ,N, , ,W, grid, , , ,N
Point23,xy, , ,in, deg, , ,N, , ,W, grid, , , ,N
Point24,xy, , ,in, deg, , ,N, , ,W, grid, , , ,N
Point25,xy, , ,in, deg, , ,N, , ,W, grid, , , ,N
Point26,xy, , ,in, deg, , ,N, , ,W, grid, , , ,N
Point27,xy, , ,in, deg, , ,N, , ,W, grid, , , ,N
Point28,xy, , ,in, deg, , ,N, , ,W, grid, , , ,N
Point29,xy, , ,in, deg, , ,N, , ,W, grid, , , ,N
Point30,xy, , ,in, deg, , ,N, , ,W, grid, , , ,N
Projection Setup, 0.000000000, 39.000000000, 1.000000000, 7500000.00, 0.00,,,,,
Map Feature = MF ; Map Comment = MC These follow if they exist
Track File = TF These follow if they exist
Moving Map Parameters = MM? These follow if they exist
MM0,Yes
MMPNUM,4
MMPXY,1,0,0
MMPXY,2,1921,0
MMPXY,3,1921,2191
MMPXY,4,0,2191
MMPLL,1, 37.249627, 54.333385
MMPLL,2, 37.500177, 54.333414
MMPLL,3, 37.499737, 54.166668
MMPLL,4, 37.250197, 54.166646
MM1B,8.480037
Other Grid Setup
GRGRID,Yes,1 Km,No,16711680,255,1 Km,0,16777215,8,0,Yes,Yes,No,x
MOP,Map Open Position,0,0
IWH,Map Image Width/Height,1922,2192
