OziExplorer Map Data File Version 2.2
N-37-051-Г Новогуровский 1982г.
E:\.0\0\N-37-051-D_19xx_1982_Новогуровский.jpg
1 ,Map Code,
Pulkovo 1942 (1),WGS 84, 0.0000, 0.0000,WGS 84
Reserved 1
Reserved 2
Magnetic Variation,,,E
Map Projection,Transverse Mercator,PolyCal,No,AutoCalOnly,No,BSBUseWPX,No
Point01,xy, 125, 135,in, deg, 54, 30.0000,N, 37, 15.0000,E, grid, , , ,N
Point02,xy, 2423, 156,in, deg, 54, 30.0000,N, 37, 30.0000,E, grid, , , ,N
Point03,xy, 2400, 2782,in, deg, 54, 20.0000,N, 37, 30.0000,E, grid, , , ,N
Point04,xy, 93, 2763,in, deg, 54, 20.0000,N, 37, 15.0000,E, grid, , , ,N
Point05,xy, 1259, 1459,in, deg, 54, 25.0000,N, 37, 22.5000,E, grid, , , ,N
Point06,xy, 1267, 145,ex, deg, 54, 30.0000,N, 37, 22.5000,E, grid, , , ,N
Point07,xy, 110, 1449,in, deg, 54, 25.0000,N, 37, 15.0000,E, grid, , , ,N
Point08,xy, 2410, 1468,in, deg, 54, 25.0000,N, 37, 30.0000,E, grid, , , ,N
Point09,xy, 1260, 2773,ex, deg, 54, 20.0000,N, 37, 22.5000,E, grid, , , ,N
Point10,xy, , ,in, deg, , ,N, , ,W, grid, , , ,N
Point11,xy, , ,in, deg, , ,N, , ,W, grid, , , ,N
Point12,xy, , ,in, deg, , ,N, , ,W, grid, , , ,N
Point13,xy, , ,in, deg, , ,N, , ,W, grid, , , ,N
Point14,xy, , ,in, deg, , ,N, , ,W, grid, , , ,N
Point15,xy, , ,in, deg, , ,N, , ,W, grid, , , ,N
Point16,xy, , ,in, deg, , ,N, , ,W, grid, , , ,N
Point17,xy, , ,in, deg, , ,N, , ,W, grid, , , ,N
Point18,xy, , ,in, deg, , ,N, , ,W, grid, , , ,N
Point19,xy, , ,in, deg, , ,N, , ,W, grid, , , ,N
Point20,xy, , ,in, deg, , ,N, , ,W, grid, , , ,N
Point21,xy, , ,in, deg, , ,N, , ,W, grid, , , ,N
Point22,xy, , ,in, deg, , ,N, , ,W, grid, , , ,N
Point23,xy, , ,in, deg, , ,N, , ,W, grid, , , ,N
Point24,xy, , ,in, deg, , ,N, , ,W, grid, , , ,N
Point25,xy, , ,in, deg, , ,N, , ,W, grid, , , ,N
Point26,xy, , ,in, deg, , ,N, , ,W, grid, , , ,N
Point27,xy, , ,in, deg, , ,N, , ,W, grid, , , ,N
Point28,xy, , ,in, deg, , ,N, , ,W, grid, , , ,N
Point29,xy, , ,in, deg, , ,N, , ,W, grid, , , ,N
Point30,xy, , ,in, deg, , ,N, , ,W, grid, , , ,N
Projection Setup, 0.000000000, 39.000000000, 1.000000000, 7500000.00, 0.00,,,,,
Map Feature = MF ; Map Comment = MC These follow if they exist
Track File = TF These follow if they exist
Moving Map Parameters = MM? These follow if they exist
MM0,Yes
MMPNUM,4
MMPXY,1,125,135
MMPXY,2,2422,157
MMPXY,3,2400,2783
MMPXY,4,93,2763
MMPLL,1, 37.249971, 54.500023
MMPLL,2, 37.499974, 54.499876
MMPLL,3, 37.500063, 54.333272
MMPLL,4, 37.249991, 54.333294
MM1B,7.048461
Other Grid Setup
GRGRID,Yes,1 Km,No,16711680,255,1 Km,0,16777215,8,0,Yes,Yes,No,x
MOP,Map Open Position,0,0
IWH,Map Image Width/Height,2516,2906
