OziExplorer Map Data File Version 2.2
Space.jpg
F:\December\Space.jpg
1 ,Map Code,
WGS 84,, 0.0000, 0.0000,WGS 84
Reserved 1
Reserved 2
Magnetic Variation,,,E
Map Projection,Mercator,PolyCal,No,AutoCalOnly,No,BSBUseWPX,No
Point01,xy, 0, 0,in, deg, 54, 15.36125383,N, 37, 51.32720947,E, grid, , , ,N
Point02,xy, 2852, 2860,in, deg, 54, 6.72246741,N, 38, 6.01455688,E, grid, , , ,N
Point03,xy, 0, 2860,in, deg, 54, 6.72246741,N, 37, 51.32720947,E, grid, , , ,N
Point04,xy, 2852, 0,in, deg, 54, 15.36125383,N, 38, 6.01455688,E, grid, , , ,N
Point05,xy, 1426, 1430,in, deg, 54, 11.04563820,N, 37, 58.67088317,E, grid, , , ,N
Point06,xy, 1426, 0,in, deg, 54, 15.36125383,N, 37, 58.67088317,E, grid, , , ,N
Point07,xy, 0, 1430,in, deg, 54, 11.04563820,N, 37, 51.32720947,E, grid, , , ,N
Point08,xy, 2852, 1430,in, deg, 54, 11.04563820,N, 38, 6.01455688,E, grid, , , ,N
Point09,xy, 1426, 2860,in, deg, 54, 6.72246741,N, 37, 58.67088317,E, grid, , , ,N
Point10,xy, , ,in, deg, , ,N, , ,W, grid, , , ,N
Point11,xy, , ,in, deg, , ,N, , ,W, grid, , , ,N
Point12,xy, , ,in, deg, , ,N, , ,W, grid, , , ,N
Point13,xy, , ,in, deg, , ,N, , ,W, grid, , , ,N
Point14,xy, , ,in, deg, , ,N, , ,W, grid, , , ,N
Point15,xy, , ,in, deg, , ,N, , ,W, grid, , , ,N
Point16,xy, , ,in, deg, , ,N, , ,W, grid, , , ,N
Point17,xy, , ,in, deg, , ,N, , ,W, grid, , , ,N
Point18,xy, , ,in, deg, , ,N, , ,W, grid, , , ,N
Point19,xy, , ,in, deg, , ,N, , ,W, grid, , , ,N
Point20,xy, , ,in, deg, , ,N, , ,W, grid, , , ,N
Point21,xy, , ,in, deg, , ,N, , ,W, grid, , , ,N
Point22,xy, , ,in, deg, , ,N, , ,W, grid, , , ,N
Point23,xy, , ,in, deg, , ,N, , ,W, grid, , , ,N
Point24,xy, , ,in, deg, , ,N, , ,W, grid, , , ,N
Point25,xy, , ,in, deg, , ,N, , ,W, grid, , , ,N
Point26,xy, , ,in, deg, , ,N, , ,W, grid, , , ,N
Point27,xy, , ,in, deg, , ,N, , ,W, grid, , , ,N
Point28,xy, , ,in, deg, , ,N, , ,W, grid, , , ,N
Point29,xy, , ,in, deg, , ,N, , ,W, grid, , , ,N
Point30,xy, , ,in, deg, , ,N, , ,W, grid, , , ,N
Projection Setup,,,,,,,,,,
Map Feature = MF ; Map Comment = MC These follow if they exist
Track File = TF These follow if they exist
Moving Map Parameters = MM? These follow if they exist
MM0,Yes
MMPNUM,4
MMPXY,1,0,0
MMPXY,2,2852,0
MMPXY,3,2852,2860
MMPXY,4,0,2860
MMPLL,1, 37.85545349, 54.25602089
MMPLL,2, 38.10024261, 54.25602089
MMPLL,3, 38.10024261, 54.11204112
MMPLL,4, 37.85545349, 54.11204112
MM1B,5.59120441
MOP,Map Open Position,0,0
IWH,Map Image Width/Height,2852,2860
